BEGIN:VCALENDAR
VERSION:2.0
PRODID:-//Fort Berthold Diabetes Program - ECPv6.15.20//NONSGML v1.0//EN
CALSCALE:GREGORIAN
METHOD:PUBLISH
X-WR-CALNAME:Fort Berthold Diabetes Program
X-ORIGINAL-URL:https://www.fortbertholddiabetes.com
X-WR-CALDESC:Events for Fort Berthold Diabetes Program
REFRESH-INTERVAL;VALUE=DURATION:PT1H
X-Robots-Tag:noindex
X-PUBLISHED-TTL:PT1H
BEGIN:VTIMEZONE
TZID:America/North_Dakota/New_Salem
BEGIN:DAYLIGHT
TZOFFSETFROM:-0600
TZOFFSETTO:-0500
TZNAME:CDT
DTSTART:20230312T080000
END:DAYLIGHT
BEGIN:STANDARD
TZOFFSETFROM:-0500
TZOFFSETTO:-0600
TZNAME:CST
DTSTART:20231105T070000
END:STANDARD
BEGIN:DAYLIGHT
TZOFFSETFROM:-0600
TZOFFSETTO:-0500
TZNAME:CDT
DTSTART:20240310T080000
END:DAYLIGHT
BEGIN:STANDARD
TZOFFSETFROM:-0500
TZOFFSETTO:-0600
TZNAME:CST
DTSTART:20241103T070000
END:STANDARD
BEGIN:DAYLIGHT
TZOFFSETFROM:-0600
TZOFFSETTO:-0500
TZNAME:CDT
DTSTART:20250309T080000
END:DAYLIGHT
BEGIN:STANDARD
TZOFFSETFROM:-0500
TZOFFSETTO:-0600
TZNAME:CST
DTSTART:20251102T070000
END:STANDARD
END:VTIMEZONE
BEGIN:VEVENT
DTSTART;TZID=America/North_Dakota/New_Salem:20241023T173000
DTEND;TZID=America/North_Dakota/New_Salem:20241024T193000
DTSTAMP:20260421T054613
CREATED:20241007T210530Z
LAST-MODIFIED:20250625T195357Z
UID:904-1729704600-1729798200@www.fortbertholddiabetes.com
SUMMARY:October's Cooking Class!
DESCRIPTION:CLICK LINK Below to register today!
URL:https://www.fortbertholddiabetes.com/event/octobers-cooking-class/
LOCATION:MHA Diabetes Center\, 1302 12th Street N\, New Town\, ND\, 58763\, United States
END:VEVENT
END:VCALENDAR